BEGIN:VCALENDAR
VERSION:2.0
PRODID:-//Key West Spice Company - ECPv6.15.20//NONSGML v1.0//EN
CALSCALE:GREGORIAN
METHOD:PUBLISH
X-WR-CALNAME:Key West Spice Company
X-ORIGINAL-URL:https://keywestspicecompany.com
X-WR-CALDESC:Events for Key West Spice Company
REFRESH-INTERVAL;VALUE=DURATION:PT1H
X-Robots-Tag:noindex
X-PUBLISHED-TTL:PT1H
BEGIN:VTIMEZONE
TZID:America/Denver
BEGIN:DAYLIGHT
TZOFFSETFROM:-0700
TZOFFSETTO:-0600
TZNAME:MDT
DTSTART:20250309T090000
END:DAYLIGHT
BEGIN:STANDARD
TZOFFSETFROM:-0600
TZOFFSETTO:-0700
TZNAME:MST
DTSTART:20251102T080000
END:STANDARD
BEGIN:DAYLIGHT
TZOFFSETFROM:-0700
TZOFFSETTO:-0600
TZNAME:MDT
DTSTART:20260308T090000
END:DAYLIGHT
BEGIN:STANDARD
TZOFFSETFROM:-0600
TZOFFSETTO:-0700
TZNAME:MST
DTSTART:20261101T080000
END:STANDARD
BEGIN:DAYLIGHT
TZOFFSETFROM:-0700
TZOFFSETTO:-0600
TZNAME:MDT
DTSTART:20270314T090000
END:DAYLIGHT
BEGIN:STANDARD
TZOFFSETFROM:-0600
TZOFFSETTO:-0700
TZNAME:MST
DTSTART:20271107T080000
END:STANDARD
END:VTIMEZONE
BEGIN:VEVENT
DTSTART;TZID=America/Denver:20260425T090000
DTEND;TZID=America/Denver:20260425T140000
DTSTAMP:20260420T050652
CREATED:20251118T114721Z
LAST-MODIFIED:20251201T134343Z
UID:10000022-1777107600-1777125600@keywestspicecompany.com
SUMMARY:Boondocks Open Air Market
DESCRIPTION:Join Us Every Saturday\n9:00 am to 2:00 pm
URL:https://keywestspicecompany.com/event/velmin-quistra/2026-04-25/
LOCATION:Boondocks Open Air Market\, 27205 Overseas Hwy.\, Ramrod Key\, FL\, 33042\, United States
ATTACH;FMTTYPE=image/jpeg:https://keywestspicecompany.com/wp-content/uploads/2025/11/Boondocks-Open-Air-Market-Sat-9am-to-2pm-5.jpg
END:VEVENT
BEGIN:VEVENT
DTSTART;TZID=America/Denver:20260426T080000
DTEND;TZID=America/Denver:20260426T170000
DTSTAMP:20260420T050652
CREATED:20251201T132237Z
LAST-MODIFIED:20251201T132237Z
UID:10000280-1777190400-1777222800@keywestspicecompany.com
SUMMARY:Key West Artisan Market
DESCRIPTION:Come see us at the Key West Artisan Market on the following dates:\nDecember 14\, 21\, 28\nJanuary 11\, 25\nFebruary 1\, 8\, 15\, 22\nMarch 1\, 8\, 15\, 22\, 29\nApril 5\, 12\,19\, 26\nMay 10\nJune 21\nJuly 5\nAugust 9
URL:https://keywestspicecompany.com/event/key-west-artisan-market/2026-04-26/
LOCATION:Key West Artisan Market\, 1801 White Street\, Key West\, FL\, 44040\, United States
ATTACH;FMTTYPE=image/jpeg:https://keywestspicecompany.com/wp-content/uploads/2025/12/10692.jpg
END:VEVENT
BEGIN:VEVENT
DTSTART;TZID=America/Denver:20260502T090000
DTEND;TZID=America/Denver:20260502T140000
DTSTAMP:20260420T050652
CREATED:20251118T114721Z
LAST-MODIFIED:20251201T134343Z
UID:10000023-1777712400-1777730400@keywestspicecompany.com
SUMMARY:Boondocks Open Air Market
DESCRIPTION:Join Us Every Saturday\n9:00 am to 2:00 pm
URL:https://keywestspicecompany.com/event/velmin-quistra/2026-05-02/
LOCATION:Boondocks Open Air Market\, 27205 Overseas Hwy.\, Ramrod Key\, FL\, 33042\, United States
ATTACH;FMTTYPE=image/jpeg:https://keywestspicecompany.com/wp-content/uploads/2025/11/Boondocks-Open-Air-Market-Sat-9am-to-2pm-5.jpg
END:VEVENT
BEGIN:VEVENT
DTSTART;TZID=America/Denver:20260509T090000
DTEND;TZID=America/Denver:20260509T140000
DTSTAMP:20260420T050652
CREATED:20251118T114721Z
LAST-MODIFIED:20251201T134343Z
UID:10000024-1778317200-1778335200@keywestspicecompany.com
SUMMARY:Boondocks Open Air Market
DESCRIPTION:Join Us Every Saturday\n9:00 am to 2:00 pm
URL:https://keywestspicecompany.com/event/velmin-quistra/2026-05-09/
LOCATION:Boondocks Open Air Market\, 27205 Overseas Hwy.\, Ramrod Key\, FL\, 33042\, United States
ATTACH;FMTTYPE=image/jpeg:https://keywestspicecompany.com/wp-content/uploads/2025/11/Boondocks-Open-Air-Market-Sat-9am-to-2pm-5.jpg
END:VEVENT
BEGIN:VEVENT
DTSTART;TZID=America/Denver:20260510T080000
DTEND;TZID=America/Denver:20260510T170000
DTSTAMP:20260420T050652
CREATED:20251201T132237Z
LAST-MODIFIED:20251201T132237Z
UID:10000281-1778400000-1778432400@keywestspicecompany.com
SUMMARY:Key West Artisan Market
DESCRIPTION:Come see us at the Key West Artisan Market on the following dates:\nDecember 14\, 21\, 28\nJanuary 11\, 25\nFebruary 1\, 8\, 15\, 22\nMarch 1\, 8\, 15\, 22\, 29\nApril 5\, 12\,19\, 26\nMay 10\nJune 21\nJuly 5\nAugust 9
URL:https://keywestspicecompany.com/event/key-west-artisan-market/2026-05-10/
LOCATION:Key West Artisan Market\, 1801 White Street\, Key West\, FL\, 44040\, United States
ATTACH;FMTTYPE=image/jpeg:https://keywestspicecompany.com/wp-content/uploads/2025/12/10692.jpg
END:VEVENT
BEGIN:VEVENT
DTSTART;TZID=America/Denver:20260515T120000
DTEND;TZID=America/Denver:20260516T180000
DTSTAMP:20260420T050652
CREATED:20260219T013346Z
LAST-MODIFIED:20260219T013346Z
UID:10000290-1778846400-1778954400@keywestspicecompany.com
SUMMARY:
DESCRIPTION:Professional BBQ Competition Food vendors Art and Craft vendors Business vendors Bounce houses Dunk tankMusical Act and much more
URL:https://keywestspicecompany.com/event/15235/
LOCATION:FL
ATTACH;FMTTYPE=image/jpeg:https://keywestspicecompany.com/wp-content/uploads/2026/02/sizzle-and-splash.jpg
END:VEVENT
BEGIN:VEVENT
DTSTART;TZID=America/Denver:20260516T090000
DTEND;TZID=America/Denver:20260516T140000
DTSTAMP:20260420T050652
CREATED:20251118T114721Z
LAST-MODIFIED:20251201T134343Z
UID:10000025-1778922000-1778940000@keywestspicecompany.com
SUMMARY:Boondocks Open Air Market
DESCRIPTION:Join Us Every Saturday\n9:00 am to 2:00 pm
URL:https://keywestspicecompany.com/event/velmin-quistra/2026-05-16/
LOCATION:Boondocks Open Air Market\, 27205 Overseas Hwy.\, Ramrod Key\, FL\, 33042\, United States
ATTACH;FMTTYPE=image/jpeg:https://keywestspicecompany.com/wp-content/uploads/2025/11/Boondocks-Open-Air-Market-Sat-9am-to-2pm-5.jpg
END:VEVENT
BEGIN:VEVENT
DTSTART;TZID=America/Denver:20260523T090000
DTEND;TZID=America/Denver:20260523T140000
DTSTAMP:20260420T050652
CREATED:20251118T114721Z
LAST-MODIFIED:20251201T134343Z
UID:10000026-1779526800-1779544800@keywestspicecompany.com
SUMMARY:Boondocks Open Air Market
DESCRIPTION:Join Us Every Saturday\n9:00 am to 2:00 pm
URL:https://keywestspicecompany.com/event/velmin-quistra/2026-05-23/
LOCATION:Boondocks Open Air Market\, 27205 Overseas Hwy.\, Ramrod Key\, FL\, 33042\, United States
ATTACH;FMTTYPE=image/jpeg:https://keywestspicecompany.com/wp-content/uploads/2025/11/Boondocks-Open-Air-Market-Sat-9am-to-2pm-5.jpg
END:VEVENT
BEGIN:VEVENT
DTSTART;TZID=America/Denver:20260530T090000
DTEND;TZID=America/Denver:20260530T140000
DTSTAMP:20260420T050652
CREATED:20251118T114721Z
LAST-MODIFIED:20251201T134343Z
UID:10000027-1780131600-1780149600@keywestspicecompany.com
SUMMARY:Boondocks Open Air Market
DESCRIPTION:Join Us Every Saturday\n9:00 am to 2:00 pm
URL:https://keywestspicecompany.com/event/velmin-quistra/2026-05-30/
LOCATION:Boondocks Open Air Market\, 27205 Overseas Hwy.\, Ramrod Key\, FL\, 33042\, United States
ATTACH;FMTTYPE=image/jpeg:https://keywestspicecompany.com/wp-content/uploads/2025/11/Boondocks-Open-Air-Market-Sat-9am-to-2pm-5.jpg
END:VEVENT
BEGIN:VEVENT
DTSTART;TZID=America/Denver:20260606T090000
DTEND;TZID=America/Denver:20260606T140000
DTSTAMP:20260420T050652
CREATED:20251118T114721Z
LAST-MODIFIED:20251201T134343Z
UID:10000028-1780736400-1780754400@keywestspicecompany.com
SUMMARY:Boondocks Open Air Market
DESCRIPTION:Join Us Every Saturday\n9:00 am to 2:00 pm
URL:https://keywestspicecompany.com/event/velmin-quistra/2026-06-06/
LOCATION:Boondocks Open Air Market\, 27205 Overseas Hwy.\, Ramrod Key\, FL\, 33042\, United States
ATTACH;FMTTYPE=image/jpeg:https://keywestspicecompany.com/wp-content/uploads/2025/11/Boondocks-Open-Air-Market-Sat-9am-to-2pm-5.jpg
END:VEVENT
BEGIN:VEVENT
DTSTART;TZID=America/Denver:20260613T090000
DTEND;TZID=America/Denver:20260613T140000
DTSTAMP:20260420T050652
CREATED:20251118T114721Z
LAST-MODIFIED:20251201T134343Z
UID:10000029-1781341200-1781359200@keywestspicecompany.com
SUMMARY:Boondocks Open Air Market
DESCRIPTION:Join Us Every Saturday\n9:00 am to 2:00 pm
URL:https://keywestspicecompany.com/event/velmin-quistra/2026-06-13/
LOCATION:Boondocks Open Air Market\, 27205 Overseas Hwy.\, Ramrod Key\, FL\, 33042\, United States
ATTACH;FMTTYPE=image/jpeg:https://keywestspicecompany.com/wp-content/uploads/2025/11/Boondocks-Open-Air-Market-Sat-9am-to-2pm-5.jpg
END:VEVENT
BEGIN:VEVENT
DTSTART;TZID=America/Denver:20260619T150000
DTEND;TZID=America/Denver:20260621T160000
DTSTAMP:20260420T050652
CREATED:20260219T010318Z
LAST-MODIFIED:20260219T011435Z
UID:10000288-1781881200-1782057600@keywestspicecompany.com
SUMMARY:Festival of the Fish
DESCRIPTION:In June 2026\, the Vermilion Chamber of Commerce will proudly celebrate 60 years of the Festival of the Fish. Six decades of memories\, laughter\, and generations coming together make this event truly unique\, a living tradition that cannot be duplicated. Vermilion’s festival is more than just an event; it is a testament to our history\, our community\, and our enduring love for the river and lake that define us.
URL:https://keywestspicecompany.com/event/festival-of-the-fish/
LOCATION:FL
ATTACH;FMTTYPE=image/jpeg:https://keywestspicecompany.com/wp-content/uploads/2026/02/2026-FF-Announcement.jpg
END:VEVENT
BEGIN:VEVENT
DTSTART;TZID=America/Denver:20260620T090000
DTEND;TZID=America/Denver:20260620T140000
DTSTAMP:20260420T050652
CREATED:20251118T114721Z
LAST-MODIFIED:20251201T134343Z
UID:10000030-1781946000-1781964000@keywestspicecompany.com
SUMMARY:Boondocks Open Air Market
DESCRIPTION:Join Us Every Saturday\n9:00 am to 2:00 pm
URL:https://keywestspicecompany.com/event/velmin-quistra/2026-06-20/
LOCATION:Boondocks Open Air Market\, 27205 Overseas Hwy.\, Ramrod Key\, FL\, 33042\, United States
ATTACH;FMTTYPE=image/jpeg:https://keywestspicecompany.com/wp-content/uploads/2025/11/Boondocks-Open-Air-Market-Sat-9am-to-2pm-5.jpg
END:VEVENT
BEGIN:VEVENT
DTSTART;TZID=America/Denver:20260621T080000
DTEND;TZID=America/Denver:20260621T170000
DTSTAMP:20260420T050652
CREATED:20251201T132237Z
LAST-MODIFIED:20251201T132237Z
UID:10000282-1782028800-1782061200@keywestspicecompany.com
SUMMARY:Key West Artisan Market
DESCRIPTION:Come see us at the Key West Artisan Market on the following dates:\nDecember 14\, 21\, 28\nJanuary 11\, 25\nFebruary 1\, 8\, 15\, 22\nMarch 1\, 8\, 15\, 22\, 29\nApril 5\, 12\,19\, 26\nMay 10\nJune 21\nJuly 5\nAugust 9
URL:https://keywestspicecompany.com/event/key-west-artisan-market/2026-06-21/
LOCATION:Key West Artisan Market\, 1801 White Street\, Key West\, FL\, 44040\, United States
ATTACH;FMTTYPE=image/jpeg:https://keywestspicecompany.com/wp-content/uploads/2025/12/10692.jpg
END:VEVENT
BEGIN:VEVENT
DTSTART;TZID=America/Denver:20260627T090000
DTEND;TZID=America/Denver:20260627T140000
DTSTAMP:20260420T050652
CREATED:20251118T114721Z
LAST-MODIFIED:20251201T134343Z
UID:10000031-1782550800-1782568800@keywestspicecompany.com
SUMMARY:Boondocks Open Air Market
DESCRIPTION:Join Us Every Saturday\n9:00 am to 2:00 pm
URL:https://keywestspicecompany.com/event/velmin-quistra/2026-06-27/
LOCATION:Boondocks Open Air Market\, 27205 Overseas Hwy.\, Ramrod Key\, FL\, 33042\, United States
ATTACH;FMTTYPE=image/jpeg:https://keywestspicecompany.com/wp-content/uploads/2025/11/Boondocks-Open-Air-Market-Sat-9am-to-2pm-5.jpg
END:VEVENT
BEGIN:VEVENT
DTSTART;TZID=America/Denver:20260704T090000
DTEND;TZID=America/Denver:20260704T140000
DTSTAMP:20260420T050652
CREATED:20251118T114721Z
LAST-MODIFIED:20251201T134343Z
UID:10000032-1783155600-1783173600@keywestspicecompany.com
SUMMARY:Boondocks Open Air Market
DESCRIPTION:Join Us Every Saturday\n9:00 am to 2:00 pm
URL:https://keywestspicecompany.com/event/velmin-quistra/2026-07-04/
LOCATION:Boondocks Open Air Market\, 27205 Overseas Hwy.\, Ramrod Key\, FL\, 33042\, United States
ATTACH;FMTTYPE=image/jpeg:https://keywestspicecompany.com/wp-content/uploads/2025/11/Boondocks-Open-Air-Market-Sat-9am-to-2pm-5.jpg
END:VEVENT
BEGIN:VEVENT
DTSTART;TZID=America/Denver:20260705T080000
DTEND;TZID=America/Denver:20260705T170000
DTSTAMP:20260420T050652
CREATED:20251201T132237Z
LAST-MODIFIED:20251201T132237Z
UID:10000283-1783238400-1783270800@keywestspicecompany.com
SUMMARY:Key West Artisan Market
DESCRIPTION:Come see us at the Key West Artisan Market on the following dates:\nDecember 14\, 21\, 28\nJanuary 11\, 25\nFebruary 1\, 8\, 15\, 22\nMarch 1\, 8\, 15\, 22\, 29\nApril 5\, 12\,19\, 26\nMay 10\nJune 21\nJuly 5\nAugust 9
URL:https://keywestspicecompany.com/event/key-west-artisan-market/2026-07-05/
LOCATION:Key West Artisan Market\, 1801 White Street\, Key West\, FL\, 44040\, United States
ATTACH;FMTTYPE=image/jpeg:https://keywestspicecompany.com/wp-content/uploads/2025/12/10692.jpg
END:VEVENT
BEGIN:VEVENT
DTSTART;TZID=America/Denver:20260711T090000
DTEND;TZID=America/Denver:20260711T140000
DTSTAMP:20260420T050652
CREATED:20251118T114721Z
LAST-MODIFIED:20251201T134343Z
UID:10000033-1783760400-1783778400@keywestspicecompany.com
SUMMARY:Boondocks Open Air Market
DESCRIPTION:Join Us Every Saturday\n9:00 am to 2:00 pm
URL:https://keywestspicecompany.com/event/velmin-quistra/2026-07-11/
LOCATION:Boondocks Open Air Market\, 27205 Overseas Hwy.\, Ramrod Key\, FL\, 33042\, United States
ATTACH;FMTTYPE=image/jpeg:https://keywestspicecompany.com/wp-content/uploads/2025/11/Boondocks-Open-Air-Market-Sat-9am-to-2pm-5.jpg
END:VEVENT
BEGIN:VEVENT
DTSTART;TZID=America/Denver:20260718T090000
DTEND;TZID=America/Denver:20260718T140000
DTSTAMP:20260420T050652
CREATED:20251118T114721Z
LAST-MODIFIED:20251201T134343Z
UID:10000034-1784365200-1784383200@keywestspicecompany.com
SUMMARY:Boondocks Open Air Market
DESCRIPTION:Join Us Every Saturday\n9:00 am to 2:00 pm
URL:https://keywestspicecompany.com/event/velmin-quistra/2026-07-18/
LOCATION:Boondocks Open Air Market\, 27205 Overseas Hwy.\, Ramrod Key\, FL\, 33042\, United States
ATTACH;FMTTYPE=image/jpeg:https://keywestspicecompany.com/wp-content/uploads/2025/11/Boondocks-Open-Air-Market-Sat-9am-to-2pm-5.jpg
END:VEVENT
BEGIN:VEVENT
DTSTART;TZID=America/Denver:20260725T090000
DTEND;TZID=America/Denver:20260725T140000
DTSTAMP:20260420T050652
CREATED:20251118T114721Z
LAST-MODIFIED:20251201T134343Z
UID:10000035-1784970000-1784988000@keywestspicecompany.com
SUMMARY:Boondocks Open Air Market
DESCRIPTION:Join Us Every Saturday\n9:00 am to 2:00 pm
URL:https://keywestspicecompany.com/event/velmin-quistra/2026-07-25/
LOCATION:Boondocks Open Air Market\, 27205 Overseas Hwy.\, Ramrod Key\, FL\, 33042\, United States
ATTACH;FMTTYPE=image/jpeg:https://keywestspicecompany.com/wp-content/uploads/2025/11/Boondocks-Open-Air-Market-Sat-9am-to-2pm-5.jpg
END:VEVENT
BEGIN:VEVENT
DTSTART;TZID=America/Denver:20260801T090000
DTEND;TZID=America/Denver:20260801T140000
DTSTAMP:20260420T050652
CREATED:20251118T114721Z
LAST-MODIFIED:20251201T134343Z
UID:10000036-1785574800-1785592800@keywestspicecompany.com
SUMMARY:Boondocks Open Air Market
DESCRIPTION:Join Us Every Saturday\n9:00 am to 2:00 pm
URL:https://keywestspicecompany.com/event/velmin-quistra/2026-08-01/
LOCATION:Boondocks Open Air Market\, 27205 Overseas Hwy.\, Ramrod Key\, FL\, 33042\, United States
ATTACH;FMTTYPE=image/jpeg:https://keywestspicecompany.com/wp-content/uploads/2025/11/Boondocks-Open-Air-Market-Sat-9am-to-2pm-5.jpg
END:VEVENT
BEGIN:VEVENT
DTSTART;TZID=America/Denver:20260808T090000
DTEND;TZID=America/Denver:20260808T140000
DTSTAMP:20260420T050652
CREATED:20251118T114721Z
LAST-MODIFIED:20251201T134343Z
UID:10000037-1786179600-1786197600@keywestspicecompany.com
SUMMARY:Boondocks Open Air Market
DESCRIPTION:Join Us Every Saturday\n9:00 am to 2:00 pm
URL:https://keywestspicecompany.com/event/velmin-quistra/2026-08-08/
LOCATION:Boondocks Open Air Market\, 27205 Overseas Hwy.\, Ramrod Key\, FL\, 33042\, United States
ATTACH;FMTTYPE=image/jpeg:https://keywestspicecompany.com/wp-content/uploads/2025/11/Boondocks-Open-Air-Market-Sat-9am-to-2pm-5.jpg
END:VEVENT
BEGIN:VEVENT
DTSTART;TZID=America/Denver:20260809T080000
DTEND;TZID=America/Denver:20260809T170000
DTSTAMP:20260420T050652
CREATED:20251201T132237Z
LAST-MODIFIED:20251201T132237Z
UID:10000284-1786262400-1786294800@keywestspicecompany.com
SUMMARY:Key West Artisan Market
DESCRIPTION:Come see us at the Key West Artisan Market on the following dates:\nDecember 14\, 21\, 28\nJanuary 11\, 25\nFebruary 1\, 8\, 15\, 22\nMarch 1\, 8\, 15\, 22\, 29\nApril 5\, 12\,19\, 26\nMay 10\nJune 21\nJuly 5\nAugust 9
URL:https://keywestspicecompany.com/event/key-west-artisan-market/2026-08-09/
LOCATION:Key West Artisan Market\, 1801 White Street\, Key West\, FL\, 44040\, United States
ATTACH;FMTTYPE=image/jpeg:https://keywestspicecompany.com/wp-content/uploads/2025/12/10692.jpg
END:VEVENT
BEGIN:VEVENT
DTSTART;TZID=America/Denver:20260815T090000
DTEND;TZID=America/Denver:20260815T140000
DTSTAMP:20260420T050653
CREATED:20251118T114721Z
LAST-MODIFIED:20251201T134343Z
UID:10000038-1786784400-1786802400@keywestspicecompany.com
SUMMARY:Boondocks Open Air Market
DESCRIPTION:Join Us Every Saturday\n9:00 am to 2:00 pm
URL:https://keywestspicecompany.com/event/velmin-quistra/2026-08-15/
LOCATION:Boondocks Open Air Market\, 27205 Overseas Hwy.\, Ramrod Key\, FL\, 33042\, United States
ATTACH;FMTTYPE=image/jpeg:https://keywestspicecompany.com/wp-content/uploads/2025/11/Boondocks-Open-Air-Market-Sat-9am-to-2pm-5.jpg
END:VEVENT
BEGIN:VEVENT
DTSTART;TZID=America/Denver:20260822T090000
DTEND;TZID=America/Denver:20260822T140000
DTSTAMP:20260420T050653
CREATED:20251118T114721Z
LAST-MODIFIED:20251201T134343Z
UID:10000039-1787389200-1787407200@keywestspicecompany.com
SUMMARY:Boondocks Open Air Market
DESCRIPTION:Join Us Every Saturday\n9:00 am to 2:00 pm
URL:https://keywestspicecompany.com/event/velmin-quistra/2026-08-22/
LOCATION:Boondocks Open Air Market\, 27205 Overseas Hwy.\, Ramrod Key\, FL\, 33042\, United States
ATTACH;FMTTYPE=image/jpeg:https://keywestspicecompany.com/wp-content/uploads/2025/11/Boondocks-Open-Air-Market-Sat-9am-to-2pm-5.jpg
END:VEVENT
BEGIN:VEVENT
DTSTART;TZID=America/Denver:20260829T090000
DTEND;TZID=America/Denver:20260829T140000
DTSTAMP:20260420T050653
CREATED:20251118T114721Z
LAST-MODIFIED:20251201T134343Z
UID:10000040-1787994000-1788012000@keywestspicecompany.com
SUMMARY:Boondocks Open Air Market
DESCRIPTION:Join Us Every Saturday\n9:00 am to 2:00 pm
URL:https://keywestspicecompany.com/event/velmin-quistra/2026-08-29/
LOCATION:Boondocks Open Air Market\, 27205 Overseas Hwy.\, Ramrod Key\, FL\, 33042\, United States
ATTACH;FMTTYPE=image/jpeg:https://keywestspicecompany.com/wp-content/uploads/2025/11/Boondocks-Open-Air-Market-Sat-9am-to-2pm-5.jpg
END:VEVENT
BEGIN:VEVENT
DTSTART;TZID=America/Denver:20260905T090000
DTEND;TZID=America/Denver:20260905T140000
DTSTAMP:20260420T050653
CREATED:20251118T114721Z
LAST-MODIFIED:20251201T134343Z
UID:10000041-1788598800-1788616800@keywestspicecompany.com
SUMMARY:Boondocks Open Air Market
DESCRIPTION:Join Us Every Saturday\n9:00 am to 2:00 pm
URL:https://keywestspicecompany.com/event/velmin-quistra/2026-09-05/
LOCATION:Boondocks Open Air Market\, 27205 Overseas Hwy.\, Ramrod Key\, FL\, 33042\, United States
ATTACH;FMTTYPE=image/jpeg:https://keywestspicecompany.com/wp-content/uploads/2025/11/Boondocks-Open-Air-Market-Sat-9am-to-2pm-5.jpg
END:VEVENT
BEGIN:VEVENT
DTSTART;TZID=America/Denver:20260912T090000
DTEND;TZID=America/Denver:20260912T140000
DTSTAMP:20260420T050653
CREATED:20251118T114721Z
LAST-MODIFIED:20251201T134343Z
UID:10000042-1789203600-1789221600@keywestspicecompany.com
SUMMARY:Boondocks Open Air Market
DESCRIPTION:Join Us Every Saturday\n9:00 am to 2:00 pm
URL:https://keywestspicecompany.com/event/velmin-quistra/2026-09-12/
LOCATION:Boondocks Open Air Market\, 27205 Overseas Hwy.\, Ramrod Key\, FL\, 33042\, United States
ATTACH;FMTTYPE=image/jpeg:https://keywestspicecompany.com/wp-content/uploads/2025/11/Boondocks-Open-Air-Market-Sat-9am-to-2pm-5.jpg
END:VEVENT
BEGIN:VEVENT
DTSTART;TZID=America/Denver:20260919T090000
DTEND;TZID=America/Denver:20260919T140000
DTSTAMP:20260420T050653
CREATED:20251118T114721Z
LAST-MODIFIED:20251201T134343Z
UID:10000043-1789808400-1789826400@keywestspicecompany.com
SUMMARY:Boondocks Open Air Market
DESCRIPTION:Join Us Every Saturday\n9:00 am to 2:00 pm
URL:https://keywestspicecompany.com/event/velmin-quistra/2026-09-19/
LOCATION:Boondocks Open Air Market\, 27205 Overseas Hwy.\, Ramrod Key\, FL\, 33042\, United States
ATTACH;FMTTYPE=image/jpeg:https://keywestspicecompany.com/wp-content/uploads/2025/11/Boondocks-Open-Air-Market-Sat-9am-to-2pm-5.jpg
END:VEVENT
BEGIN:VEVENT
DTSTART;TZID=America/Denver:20260926T090000
DTEND;TZID=America/Denver:20260926T140000
DTSTAMP:20260420T050653
CREATED:20251118T114721Z
LAST-MODIFIED:20251201T134343Z
UID:10000044-1790413200-1790431200@keywestspicecompany.com
SUMMARY:Boondocks Open Air Market
DESCRIPTION:Join Us Every Saturday\n9:00 am to 2:00 pm
URL:https://keywestspicecompany.com/event/velmin-quistra/2026-09-26/
LOCATION:Boondocks Open Air Market\, 27205 Overseas Hwy.\, Ramrod Key\, FL\, 33042\, United States
ATTACH;FMTTYPE=image/jpeg:https://keywestspicecompany.com/wp-content/uploads/2025/11/Boondocks-Open-Air-Market-Sat-9am-to-2pm-5.jpg
END:VEVENT
END:VCALENDAR