BEGIN:VCALENDAR
VERSION:2.0
PRODID:-//Key West Spice Company - ECPv6.15.20//NONSGML v1.0//EN
CALSCALE:GREGORIAN
METHOD:PUBLISH
X-WR-CALNAME:Key West Spice Company
X-ORIGINAL-URL:https://keywestspicecompany.com
X-WR-CALDESC:Events for Key West Spice Company
REFRESH-INTERVAL;VALUE=DURATION:PT1H
X-Robots-Tag:noindex
X-PUBLISHED-TTL:PT1H
BEGIN:VTIMEZONE
TZID:America/Denver
BEGIN:DAYLIGHT
TZOFFSETFROM:-0700
TZOFFSETTO:-0600
TZNAME:MDT
DTSTART:20250309T090000
END:DAYLIGHT
BEGIN:STANDARD
TZOFFSETFROM:-0600
TZOFFSETTO:-0700
TZNAME:MST
DTSTART:20251102T080000
END:STANDARD
BEGIN:DAYLIGHT
TZOFFSETFROM:-0700
TZOFFSETTO:-0600
TZNAME:MDT
DTSTART:20260308T090000
END:DAYLIGHT
BEGIN:STANDARD
TZOFFSETFROM:-0600
TZOFFSETTO:-0700
TZNAME:MST
DTSTART:20261101T080000
END:STANDARD
BEGIN:DAYLIGHT
TZOFFSETFROM:-0700
TZOFFSETTO:-0600
TZNAME:MDT
DTSTART:20270314T090000
END:DAYLIGHT
BEGIN:STANDARD
TZOFFSETFROM:-0600
TZOFFSETTO:-0700
TZNAME:MST
DTSTART:20271107T080000
END:STANDARD
END:VTIMEZONE
BEGIN:VEVENT
DTSTART;TZID=America/Denver:20260221T080000
DTEND;TZID=America/Denver:20260222T170000
DTSTAMP:20260420T102734
CREATED:20251201T134100Z
LAST-MODIFIED:20251201T134100Z
UID:10000286-1771660800-1771779600@keywestspicecompany.com
SUMMARY:Upper Keys Rotary & Keys Deck & Dock's
DESCRIPTION:Come find us at the Upper Keys Rotary & Keys Deck & Dock’s Gigantic Nautical Market
URL:https://keywestspicecompany.com/event/upper-keys-rotary-keys-deck-docks/
LOCATION:Gigantic Nautical Market\, Founders Park\, Mile Marker 87\, Islamorada\, Florida Keys\, FL\, United States
ATTACH;FMTTYPE=image/webp:https://keywestspicecompany.com/wp-content/uploads/2025/12/UKRGNM-scaled.webp
END:VEVENT
END:VCALENDAR